Package: arrayQuality Version: 1.89.0 Command: /Library/Frameworks/R.framework/Resources/bin/R CMD INSTALL arrayQuality StartedAt: 2025-11-13 15:02:39 -0500 (Thu, 13 Nov 2025) EndedAt: 2025-11-13 15:02:44 -0500 (Thu, 13 Nov 2025) EllapsedTime: 4.6 seconds RetCode: 0 Status: OK