Package: arrayQuality Version: 1.89.0 Command: /Library/Frameworks/R.framework/Resources/bin/R CMD check --install=check:arrayQuality.install-out.txt --library=/Library/Frameworks/R.framework/Resources/library --no-vignettes --timings arrayQuality_1.89.0.tar.gz StartedAt: 2025-11-14 18:28:34 -0500 (Fri, 14 Nov 2025) EndedAt: 2025-11-14 18:28:56 -0500 (Fri, 14 Nov 2025) EllapsedTime: 22.2 seconds RetCode: 0 Status: WARNINGS CheckDir: arrayQuality.Rcheck Warnings: 1