Package: arrayQuality Version: 1.89.0 Command: /Library/Frameworks/R.framework/Resources/bin/R CMD build --keep-empty-dirs --no-resave-data arrayQuality StartedAt: 2025-11-14 15:38:34 -0500 (Fri, 14 Nov 2025) EndedAt: 2025-11-14 15:38:39 -0500 (Fri, 14 Nov 2025) EllapsedTime: 5.1 seconds RetCode: 0 Status: OK PackageFile: arrayQuality_1.89.0.tar.gz PackageFileSize: 12.82 MiB