Package: arrayQuality Version: 1.89.0 Command: rm -rf arrayQuality.buildbin-libdir && mkdir arrayQuality.buildbin-libdir && /Users/biocbuild/BBS/utils/build-universal.sh arrayQuality_1.89.0.tar.gz /Library/Frameworks/R.framework/Resources/bin/R arrayQuality.buildbin-libdir StartedAt: 2025-11-14 23:22:50 -0500 (Fri, 14 Nov 2025) EndedAt: 2025-11-14 23:22:57 -0500 (Fri, 14 Nov 2025) EllapsedTime: 7.2 seconds RetCode: 0 Status: OK PackageFile: arrayQuality_1.89.0.tgz PackageFileSize: 12.17 MiB