Package: arrayMvout Version: 1.69.0 Command: /home/biocbuild/bbs-3.23-bioc/R/bin/R CMD INSTALL arrayMvout StartedAt: 2025-11-11 16:05:11 -0500 (Tue, 11 Nov 2025) EndedAt: 2025-11-11 16:05:56 -0500 (Tue, 11 Nov 2025) EllapsedTime: 44.3 seconds RetCode: 0 Status: OK