Package: arrayMvout Version: 1.69.0 Command: /home/biocbuild/bbs-3.23-bioc/R/bin/R CMD check --install=check:arrayMvout.install-out.txt --library=/home/biocbuild/bbs-3.23-bioc/R/site-library --timings arrayMvout_1.69.0.tar.gz StartedAt: 2025-11-13 21:04:35 -0500 (Thu, 13 Nov 2025) EndedAt: 2025-11-13 21:10:10 -0500 (Thu, 13 Nov 2025) EllapsedTime: 334.5 seconds RetCode: 0 Status: OK CheckDir: arrayMvout.Rcheck Warnings: 0