Package: arrayMvout Version: 1.69.0 Command: /home/biocbuild/bbs-3.23-bioc/R/bin/R CMD build --keep-empty-dirs --no-resave-data arrayMvout StartedAt: 2025-11-11 16:16:36 -0500 (Tue, 11 Nov 2025) EndedAt: 2025-11-11 16:17:40 -0500 (Tue, 11 Nov 2025) EllapsedTime: 64.0 seconds RetCode: 0 Status: OK PackageFile: arrayMvout_1.69.0.tar.gz PackageFileSize: 692.7 KiB