Package: arrayMvout Version: 1.69.0 Command: /Library/Frameworks/R.framework/Resources/bin/R CMD INSTALL arrayMvout StartedAt: 2025-11-12 15:46:26 -0500 (Wed, 12 Nov 2025) EndedAt: 2025-11-12 15:46:27 -0500 (Wed, 12 Nov 2025) EllapsedTime: 1.0 seconds RetCode: 1 Status: ERROR