############################################################################## ############################################################################## ### ### Running command: ### ### /Library/Frameworks/R.framework/Resources/bin/R CMD build --keep-empty-dirs --no-resave-data arrayMvout ### ############################################################################## ############################################################################## * checking for file ‘arrayMvout/DESCRIPTION’ ... OK * preparing ‘arrayMvout’: * checking DESCRIPTION meta-information ... OK * installing the package (it is needed to build vignettes) ----------------------------------- ERROR: dependency ‘lumi’ is not available for package ‘arrayMvout’ Perhaps try a variation of: install.packages('lumi') * removing ‘/private/var/folders/r0/l4fjk6cj5xj0j3brt4bplpl40000gt/T/RtmpFplIZN/Rinstc83d5bedb126/arrayMvout’ ----------------------------------- ERROR: package installation failed