Package: apeglm Version: 1.33.0 Command: /home/biocbuild/bbs-3.23-bioc/R/bin/R CMD build --keep-empty-dirs --no-resave-data apeglm StartedAt: 2025-11-13 16:12:39 -0500 (Thu, 13 Nov 2025) EndedAt: 2025-11-13 16:14:19 -0500 (Thu, 13 Nov 2025) EllapsedTime: 100.1 seconds RetCode: 0 Status: OK PackageFile: apeglm_1.33.0.tar.gz PackageFileSize: 1.203 MiB