Package: apeglm Version: 1.33.0 Command: /Library/Frameworks/R.framework/Resources/bin/R CMD build --keep-empty-dirs --no-resave-data apeglm StartedAt: 2025-11-13 15:41:28 -0500 (Thu, 13 Nov 2025) EndedAt: 2025-11-13 15:42:03 -0500 (Thu, 13 Nov 2025) EllapsedTime: 35.4 seconds RetCode: 0 Status: OK PackageFile: apeglm_1.33.0.tar.gz PackageFileSize: 1.264 MiB