Package: apComplex Version: 2.77.0 Command: /home/biocbuild/bbs-3.23-bioc/R/bin/R CMD INSTALL apComplex StartedAt: 2025-11-13 15:30:31 -0500 (Thu, 13 Nov 2025) EndedAt: 2025-11-13 15:30:45 -0500 (Thu, 13 Nov 2025) EllapsedTime: 13.7 seconds RetCode: 0 Status: OK