Package: apComplex Version: 2.77.0 Command: /home/biocbuild/bbs-3.23-bioc/R/bin/R CMD build --keep-empty-dirs --no-resave-data apComplex StartedAt: 2025-11-13 16:12:38 -0500 (Thu, 13 Nov 2025) EndedAt: 2025-11-13 16:12:59 -0500 (Thu, 13 Nov 2025) EllapsedTime: 21.0 seconds RetCode: 0 Status: OK PackageFile: apComplex_2.77.0.tar.gz PackageFileSize: 627.2 KiB