Package: apComplex Version: 2.77.0 Command: /Library/Frameworks/R.framework/Resources/bin/R CMD build --keep-empty-dirs --no-resave-data apComplex StartedAt: 2025-11-13 15:41:26 -0500 (Thu, 13 Nov 2025) EndedAt: 2025-11-13 15:41:36 -0500 (Thu, 13 Nov 2025) EllapsedTime: 10.1 seconds RetCode: 0 Status: OK PackageFile: apComplex_2.77.0.tar.gz PackageFileSize: 627.2 KiB