Package: apComplex Version: 2.77.0 Command: rm -rf apComplex.buildbin-libdir && mkdir apComplex.buildbin-libdir && /Users/biocbuild/BBS/utils/build-universal.sh apComplex_2.77.0.tar.gz /Library/Frameworks/R.framework/Resources/bin/R apComplex.buildbin-libdir StartedAt: 2025-11-13 23:27:45 -0500 (Thu, 13 Nov 2025) EndedAt: 2025-11-13 23:27:52 -0500 (Thu, 13 Nov 2025) EllapsedTime: 7.2 seconds RetCode: 0 Status: OK PackageFile: apComplex_2.77.0.tgz PackageFileSize: 687.2 KiB