Package: annotatr Version: 1.37.0 Command: /home/biocbuild/bbs-3.23-bioc/R/bin/R CMD INSTALL annotatr StartedAt: 2025-11-13 15:42:24 -0500 (Thu, 13 Nov 2025) EndedAt: 2025-11-13 15:43:07 -0500 (Thu, 13 Nov 2025) EllapsedTime: 42.7 seconds RetCode: 0 Status: OK