Package: annotatr Version: 1.37.0 Command: /home/biocbuild/bbs-3.23-bioc/R/bin/R CMD check --install=check:annotatr.install-out.txt --library=/home/biocbuild/bbs-3.23-bioc/R/site-library --timings annotatr_1.37.0.tar.gz StartedAt: 2025-11-13 21:02:45 -0500 (Thu, 13 Nov 2025) EndedAt: 2025-11-13 21:10:56 -0500 (Thu, 13 Nov 2025) EllapsedTime: 490.8 seconds RetCode: 0 Status: OK CheckDir: annotatr.Rcheck Warnings: 0