Package: annotatr Version: 1.37.0 Command: /home/biocbuild/bbs-3.23-bioc/R/bin/R CMD build --keep-empty-dirs --no-resave-data annotatr StartedAt: 2025-11-13 16:12:09 -0500 (Thu, 13 Nov 2025) EndedAt: 2025-11-13 16:14:50 -0500 (Thu, 13 Nov 2025) EllapsedTime: 160.2 seconds RetCode: 0 Status: OK PackageFile: annotatr_1.37.0.tar.gz PackageFileSize: 2.653 MiB