Package: annotatr Version: 1.37.0 Command: /Library/Frameworks/R.framework/Resources/bin/R CMD INSTALL annotatr StartedAt: 2025-11-13 15:22:50 -0500 (Thu, 13 Nov 2025) EndedAt: 2025-11-13 15:23:07 -0500 (Thu, 13 Nov 2025) EllapsedTime: 17.0 seconds RetCode: 0 Status: OK