Package: annotatr Version: 1.37.0 Command: /Library/Frameworks/R.framework/Resources/bin/R CMD build --keep-empty-dirs --no-resave-data annotatr StartedAt: 2025-11-12 15:48:37 -0500 (Wed, 12 Nov 2025) EndedAt: 2025-11-12 15:49:47 -0500 (Wed, 12 Nov 2025) EllapsedTime: 69.9 seconds RetCode: 0 Status: OK PackageFile: annotatr_1.37.0.tar.gz PackageFileSize: 2.461 MiB