Package: annotationTools Version: 1.85.0 Command: /Library/Frameworks/R.framework/Resources/bin/R CMD build --keep-empty-dirs --no-resave-data annotationTools StartedAt: 2025-11-12 15:48:36 -0500 (Wed, 12 Nov 2025) EndedAt: 2025-11-12 15:48:42 -0500 (Wed, 12 Nov 2025) EllapsedTime: 5.1 seconds RetCode: 0 Status: OK PackageFile: annotationTools_1.85.0.tar.gz PackageFileSize: 333.4 KiB