Package: annotationTools Version: 1.85.0 Command: rm -rf annotationTools.buildbin-libdir && mkdir annotationTools.buildbin-libdir && /Users/biocbuild/BBS/utils/build-universal.sh annotationTools_1.85.0.tar.gz /Library/Frameworks/R.framework/Resources/bin/R annotationTools.buildbin-libdir StartedAt: 2025-11-13 23:27:39 -0500 (Thu, 13 Nov 2025) EndedAt: 2025-11-13 23:27:42 -0500 (Thu, 13 Nov 2025) EllapsedTime: 3.1 seconds RetCode: 0 Status: OK PackageFile: annotationTools_1.85.0.tgz PackageFileSize: 395.3 KiB