Package: annotationTools Version: 1.85.0 Maintainer: Alexandre Kuhn MaintainerEmail: alexandre.m.kuhn at gmail.com git_url: https://git.bioconductor.org/packages/annotationTools git_branch: devel git_last_commit: 91c80aa git_last_commit_date: 2025-10-29 09:59:07 -0500 (Wed, 29 Oct 2025)