Package: annotate Version: 1.89.0 Command: /home/biocbuild/bbs-3.23-bioc/R/bin/R CMD INSTALL annotate StartedAt: 2025-11-14 15:28:16 -0500 (Fri, 14 Nov 2025) EndedAt: 2025-11-14 15:28:33 -0500 (Fri, 14 Nov 2025) EllapsedTime: 16.2 seconds RetCode: 0 Status: OK