Package: annotate Version: 1.89.0 Command: /home/biocbuild/bbs-3.23-bioc/R/bin/R CMD check --install=check:annotate.install-out.txt --library=/home/biocbuild/bbs-3.23-bioc/R/site-library --timings annotate_1.89.0.tar.gz StartedAt: 2025-11-13 21:01:20 -0500 (Thu, 13 Nov 2025) EndedAt: 2025-11-13 21:05:31 -0500 (Thu, 13 Nov 2025) EllapsedTime: 250.4 seconds RetCode: 0 Status: OK CheckDir: annotate.Rcheck Warnings: 0