Package: annotate Version: 1.89.0 Command: /home/biocbuild/bbs-3.23-bioc/R/bin/R CMD build --keep-empty-dirs --no-resave-data annotate StartedAt: 2025-11-13 16:11:24 -0500 (Thu, 13 Nov 2025) EndedAt: 2025-11-13 16:12:29 -0500 (Thu, 13 Nov 2025) EllapsedTime: 65.1 seconds RetCode: 0 Status: OK PackageFile: annotate_1.89.0.tar.gz PackageFileSize: 1.787 MiB