Package: annotate Version: 1.89.0 Command: /Library/Frameworks/R.framework/Resources/bin/R CMD check --install=check:annotate.install-out.txt --library=/Library/Frameworks/R.framework/Resources/library --no-vignettes --timings annotate_1.89.0.tar.gz StartedAt: 2025-11-13 18:29:32 -0500 (Thu, 13 Nov 2025) EndedAt: 2025-11-13 18:31:17 -0500 (Thu, 13 Nov 2025) EllapsedTime: 104.4 seconds RetCode: 0 Status: OK CheckDir: annotate.Rcheck Warnings: 0