Package: annotate Version: 1.89.0 Command: /Library/Frameworks/R.framework/Resources/bin/R CMD build --keep-empty-dirs --no-resave-data annotate StartedAt: 2025-11-13 15:40:39 -0500 (Thu, 13 Nov 2025) EndedAt: 2025-11-13 15:41:12 -0500 (Thu, 13 Nov 2025) EllapsedTime: 32.3 seconds RetCode: 0 Status: OK PackageFile: annotate_1.89.0.tar.gz PackageFileSize: 1.786 MiB