Package: anndataR Version: 1.1.0 Command: /home/biocbuild/bbs-3.23-bioc/R/bin/R CMD build --keep-empty-dirs --no-resave-data anndataR StartedAt: 2025-11-14 16:11:51 -0500 (Fri, 14 Nov 2025) EndedAt: 2025-11-14 16:14:25 -0500 (Fri, 14 Nov 2025) EllapsedTime: 154.2 seconds RetCode: 0 Status: OK PackageFile: anndataR_1.1.0.tar.gz PackageFileSize: 2.097 MiB