Package: anndataR Version: 1.1.0 Command: /Library/Frameworks/R.framework/Resources/bin/R CMD INSTALL anndataR StartedAt: 2025-11-14 15:06:51 -0500 (Fri, 14 Nov 2025) EndedAt: 2025-11-14 15:06:59 -0500 (Fri, 14 Nov 2025) EllapsedTime: 7.7 seconds RetCode: 0 Status: OK