Package: anndataR Version: 1.1.0 Command: /Library/Frameworks/R.framework/Resources/bin/R CMD build --keep-empty-dirs --no-resave-data anndataR StartedAt: 2025-11-14 15:37:31 -0500 (Fri, 14 Nov 2025) EndedAt: 2025-11-14 15:38:26 -0500 (Fri, 14 Nov 2025) EllapsedTime: 55.6 seconds RetCode: 0 Status: OK PackageFile: anndataR_1.1.0.tar.gz PackageFileSize: 2.097 MiB