Package: anndataR Version: 1.1.0 Command: rm -rf anndataR.buildbin-libdir && mkdir anndataR.buildbin-libdir && /Users/biocbuild/BBS/utils/build-universal.sh anndataR_1.1.0.tar.gz /Library/Frameworks/R.framework/Resources/bin/R anndataR.buildbin-libdir StartedAt: 2025-11-14 23:22:35 -0500 (Fri, 14 Nov 2025) EndedAt: 2025-11-14 23:22:41 -0500 (Fri, 14 Nov 2025) EllapsedTime: 6.1 seconds RetCode: 0 Status: OK PackageFile: anndataR_1.1.0.tgz PackageFileSize: 2.43 MiB