Package: anansi Version: 1.1.0 Command: /Library/Frameworks/R.framework/Resources/bin/R CMD INSTALL anansi StartedAt: 2025-11-14 15:15:47 -0500 (Fri, 14 Nov 2025) EndedAt: 2025-11-14 15:16:01 -0500 (Fri, 14 Nov 2025) EllapsedTime: 14.0 seconds RetCode: 0 Status: OK