Package: anansi Version: 1.1.0 Command: rm -rf anansi.buildbin-libdir && mkdir anansi.buildbin-libdir && /Users/biocbuild/BBS/utils/build-universal.sh anansi_1.1.0.tar.gz /Library/Frameworks/R.framework/Resources/bin/R anansi.buildbin-libdir StartedAt: 2025-11-14 23:22:31 -0500 (Fri, 14 Nov 2025) EndedAt: 2025-11-14 23:22:49 -0500 (Fri, 14 Nov 2025) EllapsedTime: 18.5 seconds RetCode: 0 Status: OK PackageFile: anansi_1.1.0.tgz PackageFileSize: 4.904 MiB