Package: amplican Version: 1.33.1 Command: /home/biocbuild/bbs-3.23-bioc/R/bin/R CMD INSTALL amplican StartedAt: 2025-11-21 15:51:46 -0500 (Fri, 21 Nov 2025) EndedAt: 2025-11-21 15:52:09 -0500 (Fri, 21 Nov 2025) EllapsedTime: 23.2 seconds RetCode: 0 Status: OK