Package: amplican Version: 1.33.1 Command: /home/biocbuild/bbs-3.23-bioc/R/bin/R CMD build --keep-empty-dirs --no-resave-data amplican StartedAt: 2025-11-21 16:10:40 -0500 (Fri, 21 Nov 2025) EndedAt: 2025-11-21 16:12:13 -0500 (Fri, 21 Nov 2025) EllapsedTime: 93.1 seconds RetCode: 0 Status: OK PackageFile: amplican_1.33.1.tar.gz PackageFileSize: 9.765 MiB