Package: amplican Version: 1.33.1 Command: /Library/Frameworks/R.framework/Resources/bin/R CMD INSTALL amplican StartedAt: 2025-11-14 15:26:26 -0500 (Fri, 14 Nov 2025) EndedAt: 2025-11-14 15:26:35 -0500 (Fri, 14 Nov 2025) EllapsedTime: 8.1 seconds RetCode: 0 Status: OK