Package: amplican Version: 1.33.1 Command: /Library/Frameworks/R.framework/Resources/bin/R CMD build --keep-empty-dirs --no-resave-data amplican StartedAt: 2025-11-13 15:40:07 -0500 (Thu, 13 Nov 2025) EndedAt: 2025-11-13 15:40:37 -0500 (Thu, 13 Nov 2025) EllapsedTime: 30.3 seconds RetCode: 0 Status: OK PackageFile: amplican_1.33.1.tar.gz PackageFileSize: 10.91 MiB