Package: amplican Version: 1.33.1 Maintainer: Eivind Valen MaintainerEmail: eivind.valen at gmail.com git_url: https://git.bioconductor.org/packages/amplican git_branch: devel git_last_commit: dd29ebe git_last_commit_date: 2025-11-11 10:24:22 -0500 (Tue, 11 Nov 2025)