Package: altcdfenvs Version: 2.73.0 Command: /Library/Frameworks/R.framework/Resources/bin/R CMD INSTALL altcdfenvs StartedAt: 2025-11-14 15:08:36 -0500 (Fri, 14 Nov 2025) EndedAt: 2025-11-14 15:08:42 -0500 (Fri, 14 Nov 2025) EllapsedTime: 5.7 seconds RetCode: 0 Status: OK