Package: altcdfenvs Version: 2.73.0 Command: /Library/Frameworks/R.framework/Resources/bin/R CMD build --keep-empty-dirs --no-resave-data altcdfenvs StartedAt: 2025-11-14 15:36:49 -0500 (Fri, 14 Nov 2025) EndedAt: 2025-11-14 15:37:10 -0500 (Fri, 14 Nov 2025) EllapsedTime: 21.2 seconds RetCode: 0 Status: OK PackageFile: altcdfenvs_2.73.0.tar.gz PackageFileSize: 669.4 KiB