Package: altcdfenvs Version: 2.73.0 Command: rm -rf altcdfenvs.buildbin-libdir && mkdir altcdfenvs.buildbin-libdir && /Users/biocbuild/BBS/utils/build-universal.sh altcdfenvs_2.73.0.tar.gz /Library/Frameworks/R.framework/Resources/bin/R altcdfenvs.buildbin-libdir StartedAt: 2025-11-14 23:22:26 -0500 (Fri, 14 Nov 2025) EndedAt: 2025-11-14 23:22:35 -0500 (Fri, 14 Nov 2025) EllapsedTime: 8.2 seconds RetCode: 0 Status: OK PackageFile: altcdfenvs_2.73.0.tgz PackageFileSize: 1.103 MiB