Package: alabaster.string Version: 1.11.0 Command: /Library/Frameworks/R.framework/Resources/bin/R CMD INSTALL alabaster.string StartedAt: 2025-11-12 15:45:06 -0500 (Wed, 12 Nov 2025) EndedAt: 2025-11-12 15:45:07 -0500 (Wed, 12 Nov 2025) EllapsedTime: 1.0 seconds RetCode: 1 Status: ERROR