Package: alabaster.string Version: 1.11.0 Command: /Library/Frameworks/R.framework/Resources/bin/R CMD build --keep-empty-dirs --no-resave-data alabaster.string StartedAt: 2025-11-14 15:36:32 -0500 (Fri, 14 Nov 2025) EndedAt: 2025-11-14 15:36:39 -0500 (Fri, 14 Nov 2025) EllapsedTime: 7.1 seconds RetCode: 0 Status: OK PackageFile: alabaster.string_1.11.0.tar.gz PackageFileSize: 220.2 KiB