Package: alabaster.spatial Version: 1.11.0 Command: /home/biocbuild/bbs-3.23-bioc/R/bin/R CMD build --keep-empty-dirs --no-resave-data alabaster.spatial StartedAt: 2025-11-14 16:10:38 -0500 (Fri, 14 Nov 2025) EndedAt: 2025-11-14 16:11:22 -0500 (Fri, 14 Nov 2025) EllapsedTime: 44.1 seconds RetCode: 0 Status: OK PackageFile: alabaster.spatial_1.11.0.tar.gz PackageFileSize: 628.6 KiB