Package: alabaster.spatial Version: 1.11.0 Command: /Library/Frameworks/R.framework/Resources/bin/R CMD INSTALL alabaster.spatial StartedAt: 2025-11-14 15:15:12 -0500 (Fri, 14 Nov 2025) EndedAt: 2025-11-14 15:15:25 -0500 (Fri, 14 Nov 2025) EllapsedTime: 12.3 seconds RetCode: 0 Status: OK