Package: alabaster.spatial Version: 1.11.0 Command: /Library/Frameworks/R.framework/Resources/bin/R CMD build --keep-empty-dirs --no-resave-data alabaster.spatial StartedAt: 2025-11-14 15:36:31 -0500 (Fri, 14 Nov 2025) EndedAt: 2025-11-14 15:36:49 -0500 (Fri, 14 Nov 2025) EllapsedTime: 18.2 seconds RetCode: 0 Status: OK PackageFile: alabaster.spatial_1.11.0.tar.gz PackageFileSize: 739 KiB