Package: alabaster.spatial Version: 1.11.0 Command: rm -rf alabaster.spatial.buildbin-libdir && mkdir alabaster.spatial.buildbin-libdir && /Users/biocbuild/BBS/utils/build-universal.sh alabaster.spatial_1.11.0.tar.gz /Library/Frameworks/R.framework/Resources/bin/R alabaster.spatial.buildbin-libdir StartedAt: 2025-11-14 23:22:15 -0500 (Fri, 14 Nov 2025) EndedAt: 2025-11-14 23:22:31 -0500 (Fri, 14 Nov 2025) EllapsedTime: 15.3 seconds RetCode: 0 Status: OK PackageFile: alabaster.spatial_1.11.0.tgz PackageFileSize: 906.8 KiB