Package: alabaster.sfe Version: 1.3.0 Command: /Library/Frameworks/R.framework/Resources/bin/R CMD INSTALL alabaster.sfe StartedAt: 2025-11-14 15:17:35 -0500 (Fri, 14 Nov 2025) EndedAt: 2025-11-14 15:17:56 -0500 (Fri, 14 Nov 2025) EllapsedTime: 20.4 seconds RetCode: 0 Status: OK