Package: alabaster.sfe Version: 1.3.0 Command: rm -rf alabaster.sfe.buildbin-libdir && mkdir alabaster.sfe.buildbin-libdir && /Users/biocbuild/BBS/utils/build-universal.sh alabaster.sfe_1.3.0.tar.gz /Library/Frameworks/R.framework/Resources/bin/R alabaster.sfe.buildbin-libdir StartedAt: 2025-11-14 23:22:14 -0500 (Fri, 14 Nov 2025) EndedAt: 2025-11-14 23:22:40 -0500 (Fri, 14 Nov 2025) EllapsedTime: 25.5 seconds RetCode: 0 Status: OK PackageFile: alabaster.sfe_1.3.0.tgz PackageFileSize: 4.007 MiB